BEGIN:VCALENDAR
VERSION:2.0
PRODID:floktu.com
X-WR-TIMEZONE:Europe/Dublin
X-PUBLISHED-TTL:P1W
BEGIN:VEVENT
UID:FloktuSchedule23292@floktu.com
DTSTART;TZID=Europe/Dublin:20161017T101000
SEQUENCE:0
TRANSP:OPAQUE
DTEND;TZID=Europe/Dublin:20161017T102000
LOCATION:The Gibson Hotel\, \, Dublin 1\, County Dublin
SUMMARY:PMX | Understanding the Taxation of Investments in Ireland - Case S
 tudy
DESCRIPTION:Marc Westlake\, Chief Executive Officer  Ireland\, PortfolioMet
 rix  Marc by using the 6  step FPSB financial planning process will work t
 horugh a real life case study. He will also look at the various groups of 
 investors who benefit from structured planning (minors\, retired investors
 \, capital gains tax losses etc).
DTSTAMP:20260423T031642Z
END:VEVENT
BEGIN:VTIMEZONE
TZID:Europe/Dublin
X-LIC-LOCATION:Europe/Dublin
END:VTIMEZONE
END:VCALENDAR