BEGIN:VCALENDAR
VERSION:2.0
PRODID:floktu.com
X-WR-TIMEZONE:Europe/Dublin
X-PUBLISHED-TTL:P1W
BEGIN:VEVENT
UID:FloktuSchedule23261@floktu.com
DTSTART;TZID=Europe/Dublin:20161017T100500
SEQUENCE:0
TRANSP:OPAQUE
DTEND;TZID=Europe/Dublin:20161017T101000
LOCATION:The Gibson Hotel\, \, Dublin 1\, County Dublin
SUMMARY:PMX | Understanding the Taxation of Investments in Ireland - Divide
 nd Withholding Taxes
DESCRIPTION:Marc Westlake\,Chief Executive Officer  Ireland\, PortfolioMetr
 ix  Dividend Withholding Taxes in other countries  How Foreign Taxes reduc
 e investor returns.
DTSTAMP:20260423T050654Z
END:VEVENT
BEGIN:VTIMEZONE
TZID:Europe/Dublin
X-LIC-LOCATION:Europe/Dublin
END:VTIMEZONE
END:VCALENDAR