BEGIN:VCALENDAR
VERSION:2.0
PRODID:floktu.com
X-PUBLISHED-TTL:P1W
BEGIN:VEVENT
UID:FloktuSchedule23261@floktu.com
DTSTART:20161017T090500Z
SEQUENCE:0
TRANSP:OPAQUE
DTEND:20161017T091000Z
LOCATION:The Gibson Hotel\, \, Dublin 1\, County Dublin
SUMMARY:PMX | Understanding the Taxation of Investments in Ireland - Divide
 nd Withholding Taxes
DESCRIPTION:Marc Westlake\,Chief Executive Officer  Ireland\, PortfolioMetr
 ix  Dividend Withholding Taxes in other countries  How Foreign Taxes reduc
 e investor returns.
DTSTAMP:20260423T050905Z
END:VEVENT
END:VCALENDAR