BEGIN:VCALENDAR
VERSION:2.0
PRODID:floktu.com
X-WR-TIMEZONE:Europe/Dublin
X-PUBLISHED-TTL:P1W
BEGIN:VEVENT
UID:FloktuSchedule23256@floktu.com
DTSTART;TZID=Europe/Dublin:20161017T083500
SEQUENCE:0
TRANSP:OPAQUE
DTEND;TZID=Europe/Dublin:20161017T084500
LOCATION:The Gibson Hotel\, \, Dublin 1\, County Dublin
SUMMARY:PMX | Understanding the Taxation of Investments in Ireland - Introd
 uction to PortfolioMetrix
DESCRIPTION:Marc Westlake\, Chief Executive Officer  Ireland\, PortfolioMet
 rix Marcwill talk about how and why PortfolioMetrix challenges traditional
  investment propositions\, how it evolved and its mission in helping finan
 cial advisors better serve their clients.
DTSTAMP:20260423T051156Z
END:VEVENT
BEGIN:VTIMEZONE
TZID:Europe/Dublin
X-LIC-LOCATION:Europe/Dublin
END:VTIMEZONE
END:VCALENDAR