BEGIN:VCALENDAR
VERSION:2.0
PRODID:floktu.com
X-PUBLISHED-TTL:P1W
BEGIN:VEVENT
UID:FloktuSchedule23256@floktu.com
DTSTART:20161017T073500Z
SEQUENCE:0
TRANSP:OPAQUE
DTEND:20161017T074500Z
LOCATION:The Gibson Hotel\, \, Dublin 1\, County Dublin
SUMMARY:PMX | Understanding the Taxation of Investments in Ireland - Introd
 uction to PortfolioMetrix
DESCRIPTION:Marc Westlake\, Chief Executive Officer  Ireland\, PortfolioMet
 rix Marcwill talk about how and why PortfolioMetrix challenges traditional
  investment propositions\, how it evolved and its mission in helping finan
 cial advisors better serve their clients.
DTSTAMP:20260423T050430Z
END:VEVENT
END:VCALENDAR